BEGIN:VCALENDAR
VERSION:2.0
PRODID:-//Squarespace Inc/Squarespace 6//v6//EN
BEGIN:VEVENT
UID:5a42c7d1e4966b67c5399882@squarespace.com
DTSTAMP:20171230T190142Z
DTSTART:20171231T193000Z
DTEND:20180101T050000Z
SUMMARY:Hanmer Springs Day Adventure
END:VEVENT
END:VCALENDAR
