BEGIN:VCALENDAR
VERSION:2.0
PRODID:-//Squarespace Inc/Squarespace 6//v6//EN
BEGIN:VEVENT
UID:5a45bf71e4966b1d2b0bd0f5@squarespace.com
DTSTAMP:20171229T040726Z
DTSTART:20171229T200000Z
DTEND:20171230T020000Z
SUMMARY:Cafés Suggestions
END:VEVENT
END:VCALENDAR
