BEGIN:VCALENDAR
VERSION:2.0
PRODID:-//Squarespace Inc/Squarespace 6//v6//EN
BEGIN:VEVENT
UID:5a45496a419202cdcf3da69d@squarespace.com
DTSTAMP:20171229T040713Z
DTSTART:20171228T200000Z
DTEND:20171229T020000Z
SUMMARY:Cafés Suggestions
END:VEVENT
END:VCALENDAR
