BEGIN:VCALENDAR
VERSION:2.0
PRODID:-//Squarespace Inc/Squarespace 6//v6//EN
BEGIN:VEVENT
UID:5a45bc228165f55903333a8a@squarespace.com
DTSTAMP:20171229T040639Z
DTSTART:20171228T210000Z
DTEND:20180102T190000Z
SUMMARY:Polar Star Transport
END:VEVENT
END:VCALENDAR
