BEGIN:VCALENDAR
VERSION:2.0
PRODID:-//Squarespace Inc/Squarespace 6//v6//EN
BEGIN:VEVENT
UID:5a4600830852292beed8f45c@squarespace.com
DTSTAMP:20171229T084516Z
DTSTART:20171230T050000Z
DTEND:20171230T070000Z
SUMMARY:Dinner Recommendations
END:VEVENT
END:VCALENDAR
