BEGIN:VCALENDAR
VERSION:2.0
PRODID:-//Squarespace Inc/Squarespace 6//v6//EN
BEGIN:VEVENT
UID:5a47e2a224a694278ed13862@squarespace.com
DTSTAMP:20171230T190232Z
DTSTART:20180101T015000Z
DTEND:20180101T041500Z
SUMMARY:Learn to Surf
END:VEVENT
END:VCALENDAR
