BEGIN:VCALENDAR
VERSION:2.0
PRODID:-//Squarespace Inc/Squarespace 6//v6//EN
BEGIN:VEVENT
UID:5a459b94c830250c20072b5d@squarespace.com
DTSTAMP:20171229T013432Z
DTSTART:20171230T015000Z
DTEND:20171230T041500Z
SUMMARY:Learn to Surf
END:VEVENT
END:VCALENDAR
