BEGIN:VCALENDAR
VERSION:2.0
PRODID:-//Squarespace Inc/Squarespace 6//v6//EN
BEGIN:VEVENT
UID:5a454b0b71c10b4101bfbee8@squarespace.com
DTSTAMP:20171229T013412Z
DTSTART:20171229T015000Z
DTEND:20171229T041500Z
SUMMARY:Learn to Surf
END:VEVENT
END:VCALENDAR
