BEGIN:VCALENDAR
VERSION:2.0
PRODID:-//Squarespace Inc/Squarespace 6//v6//EN
BEGIN:VEVENT
UID:5a4603c6ec212de0628d8b15@squarespace.com
DTSTAMP:20171229T090039Z
DTSTART:20171229T210000Z
DTEND:20171230T000000Z
SUMMARY:Lyttelton Farmers' Market – Saturday 10am-1pm\, London St
END:VEVENT
END:VCALENDAR
