BEGIN:VCALENDAR
VERSION:2.0
PRODID:-//Squarespace Inc/Squarespace 6//v6//EN
BEGIN:VEVENT
UID:5a4580eb8165f559032af569@squarespace.com
DTSTAMP:20171229T014212Z
DTSTART:20171230T023000Z
DTEND:20171230T070000Z
SUMMARY:Mountain Biking Half Day Lesson- Christchurch Adventure Park
END:VEVENT
END:VCALENDAR
