BEGIN:VCALENDAR
VERSION:2.0
PRODID:-//Squarespace Inc/Squarespace 6//v6//EN
BEGIN:VEVENT
UID:5a457ca0ec212de0627e0592@squarespace.com
DTSTAMP:20171229T014112Z
DTSTART:20171229T023000Z
DTEND:20171229T070000Z
SUMMARY:Mountain Biking Half Day Lesson- Christchurch Adventure Park
END:VEVENT
END:VCALENDAR
