BEGIN:VCALENDAR
VERSION:2.0
PRODID:-//Squarespace Inc/Squarespace 6//v6//EN
BEGIN:VEVENT
UID:5a45466871c10b4101bed3aa@squarespace.com
DTSTAMP:20171229T014829Z
DTSTART:20171229T060000Z
DTEND:20171229T105900Z
SUMMARY:Nightlife in Christchurch
END:VEVENT
END:VCALENDAR
