BEGIN:VCALENDAR
VERSION:2.0
PRODID:-//Squarespace Inc/Squarespace 6//v6//EN
BEGIN:VEVENT
UID:5a47e2f924a694278ed14436@squarespace.com
DTSTAMP:20171230T190334Z
DTSTART:20171231T230000Z
DTEND:20180101T060000Z
SUMMARY:Zipline - Christchurch Adventure Park
END:VEVENT
END:VCALENDAR
