BEGIN:VCALENDAR
VERSION:2.0
PRODID:-//Squarespace Inc/Squarespace 6//v6//EN
BEGIN:VEVENT
UID:5a4580a971c10be68a2e3ea3@squarespace.com
DTSTAMP:20171230T190321Z
DTSTART:20171229T230000Z
DTEND:20171230T060000Z
SUMMARY:Zipline - Christchurch Adventure Park
END:VEVENT
END:VCALENDAR
