BEGIN:VCALENDAR
VERSION:2.0
PRODID:-//Squarespace Inc/Squarespace 6//v6//EN
BEGIN:VEVENT
UID:5a457bd10852292beec98220@squarespace.com
DTSTAMP:20171229T013741Z
DTSTART:20171228T230000Z
DTEND:20171229T060000Z
SUMMARY:Zipline - Christchurch Adventure Park
END:VEVENT
END:VCALENDAR
