BEGIN:VCALENDAR
VERSION:2.0
PRODID:-//Squarespace Inc/Squarespace 6//v6//EN
BEGIN:VEVENT
UID:5a460496e2c4831ea057ca5f@squarespace.com
DTSTAMP:20171229T090524Z
DTSTART:20171229T200000Z
DTEND:20171230T000000Z
SUMMARY:Christchurch Farmers' Market – Saturday 9am-1pm at Riccarton House 
 & Bush
END:VEVENT
END:VCALENDAR
