BEGIN:VCALENDAR
VERSION:2.0
PRODID:-//Squarespace Inc/Squarespace 6//v6//EN
BEGIN:VEVENT
UID:5a47e33c71c10bd7b3141131@squarespace.com
DTSTAMP:20171230T190849Z
DTSTART:20171231T053000Z
DTEND:20171231T110000Z
SUMMARY:New Year's Eve 2017/18 - Hagley Park
END:VEVENT
END:VCALENDAR
