BEGIN:VCALENDAR
VERSION:2.0
PRODID:-//Squarespace Inc/Squarespace 6//v6//EN
BEGIN:VEVENT
UID:5a47e3b8ec212ddd08c9bfb0@squarespace.com
DTSTAMP:20171230T190805Z
DTSTART:20171231T000000Z
DTEND:20171231T140000Z
SUMMARY:New Years Eve - Fat Eddie's
END:VEVENT
END:VCALENDAR
